BEGIN:VCALENDAR
VERSION:2.0
PRODID:-//ZESTAs - ECPv6.15.18//NONSGML v1.0//EN
CALSCALE:GREGORIAN
METHOD:PUBLISH
X-WR-CALNAME:ZESTAs
X-ORIGINAL-URL:https://zestas.org
X-WR-CALDESC:Events for ZESTAs
REFRESH-INTERVAL;VALUE=DURATION:PT1H
X-Robots-Tag:noindex
X-PUBLISHED-TTL:PT1H
BEGIN:VTIMEZONE
TZID:Europe/Athens
BEGIN:DAYLIGHT
TZOFFSETFROM:+0200
TZOFFSETTO:+0300
TZNAME:EEST
DTSTART:20240331T010000
END:DAYLIGHT
BEGIN:STANDARD
TZOFFSETFROM:+0300
TZOFFSETTO:+0200
TZNAME:EET
DTSTART:20241027T010000
END:STANDARD
BEGIN:DAYLIGHT
TZOFFSETFROM:+0200
TZOFFSETTO:+0300
TZNAME:EEST
DTSTART:20250330T010000
END:DAYLIGHT
BEGIN:STANDARD
TZOFFSETFROM:+0300
TZOFFSETTO:+0200
TZNAME:EET
DTSTART:20251026T010000
END:STANDARD
BEGIN:DAYLIGHT
TZOFFSETFROM:+0200
TZOFFSETTO:+0300
TZNAME:EEST
DTSTART:20260329T010000
END:DAYLIGHT
BEGIN:STANDARD
TZOFFSETFROM:+0300
TZOFFSETTO:+0200
TZNAME:EET
DTSTART:20261025T010000
END:STANDARD
END:VTIMEZONE
BEGIN:VEVENT
DTSTART;VALUE=DATE:20250312
DTEND;VALUE=DATE:20250313
DTSTAMP:20260420T122731
CREATED:20250125T101801Z
LAST-MODIFIED:20250310T111531Z
UID:250624-1741737600-1741823999@zestas.org
SUMMARY:ZESTAs at the 14th GREEN4SEA Athens Forum
DESCRIPTION:Jean-Philippe Arseneau will represent ZESTAs at the 14th GREEN4SEA Athens Forum\, a key platform for tackling the challenges facing the shipping industry. \nHe will present on “Assessing Availability & Readiness” and join Panel #2 – Fuel for Thought: Insights on the Alternative Options\, which will cover: \n✅ Safety challenges\n✅ Bunkering & the latest revision of ISO 8217\n✅ Incentives and regulatory mechanisms for alternative fuels \nThe shift to Absolute Zero Emissions Shipping isn’t theoretical—it’s happening now. Availability\, readiness\, and regulatory clarity will decide whether the industry moves forward or stalls. Discussions like these shape the decisions that count. \nAt ZESTAs and the IMO\, Jean-Philippe supports our Secretary General in advocacy efforts to push for clear\, effective policies that enable real zero-emissions shipping.  \n📅 Event Details:\n📌 Date: Wednesday\, 12th March 2025\n📌 Time: 09:00 – 18:00\n📌 Venue: Lighthouse of Stavros Niarchos Foundation Cultural Center (SNFCC)\, Athens \nPanelists:\nBill Stamatopoulos\, Global Marine Fuels Business Development Director\, VeriFuel\nDiane Gilpin\, Founder & CEO\, Smart Green Shipping Alliance\nNikos Xydas\, Technical Director\, World Liquid Gas Association (WLGA)\nJean-Philippe Arseneau\, Special Adviser\, ZESTAs\nAntonis Trakakis\, Chairman\, CIMAC Greece \n🎟 Free attendance—register here: events.safety4sea.com \nJoin us. Change happens when the right people are in the room. \n#GREEN4SEA #GreenShipping #AbsoluteZero #MaritimePolicy #FutureFuels #ZeroEmissions #SustainableMaritime #ShippingInnovation #MarineFuels #ShippingTransition #IMO #ClimateAction #OceanHealth #CleanShipping
URL:https://zestas.org/event/14th-green4sea-athens-forum/
LOCATION:Lighthouse of Stavros Niarchos Foundation Cultural Center (SNFCC)\, Leof. Andrea Siggrou 364\, Athens\, 17674\, Greece
CATEGORIES:ZESTAs
ATTACH;FMTTYPE=image/jpeg:https://zestas.org/wp-content/uploads/2025/01/2025-GREEN4SEA-Forum-REGISTRATION-1200x1200-2024_12-01.jpg
END:VEVENT
END:VCALENDAR