BEGIN:VCALENDAR
VERSION:2.0
PRODID:-//ZESTAs - ECPv6.15.18//NONSGML v1.0//EN
CALSCALE:GREGORIAN
METHOD:PUBLISH
X-ORIGINAL-URL:https://zestas.org
X-WR-CALDESC:Events for ZESTAs
REFRESH-INTERVAL;VALUE=DURATION:PT1H
X-Robots-Tag:noindex
X-PUBLISHED-TTL:PT1H
BEGIN:VTIMEZONE
TZID:Asia/Tokyo
BEGIN:STANDARD
TZOFFSETFROM:+0900
TZOFFSETTO:+0900
TZNAME:JST
DTSTART:20240101T000000
END:STANDARD
END:VTIMEZONE
BEGIN:VEVENT
DTSTART;TZID=Asia/Tokyo:20250313T160500
DTEND;TZID=Asia/Tokyo:20250313T165000
DTSTAMP:20260420T112513
CREATED:20250220T092141Z
LAST-MODIFIED:20250312T092622Z
UID:250774-1741881900-1741884600@zestas.org
SUMMARY:ZESTAs at the World Ocean Summit 2025
DESCRIPTION:Ocean acidification is accelerating\, and biodiversity is paying the price. Science has made the problem clear—so why aren’t solutions keeping up? At The Economist’s World Ocean Summit 2025 in Tokyo\, Madadh MacLaine\, Secretary-General of ZESTAs\, will join global experts to push for action. \nShe will speak on: \n🎤 Panel Discussion: Ocean Acidification and Biodiversity Loss – Turning Knowledge into Action\n 📅 March 13\, 2025 | 🕓 16:05 – 16:50 JST \nThis session\, supported by Back to Blue\, will cut through the noise and focus on: \n✅ The urgent need for scientific evidence linking OA to biodiversity loss\n✅ The role of decision-makers\, industry\, and financial stakeholders in driving real solutions\n✅ How case studies and investment can turn knowledge into enforceable policies \nPanelists:\nSteve Widdicombe\, Director of Science & Deputy Chief Executive\, Plymouth Marine Laboratory (PML)\nJessie Turner\, Executive Director\, International Alliance to Combat Ocean Acidification\nMasahiko Fujii\, Professor\, Atmosphere and Ocean Research Institute\, University of Tokyo\nHenrik Oksfeldt Enevoldsen\, Head of Centre\, Ocean Science Programme Manager\, IOC UNESCO\nPunyasloke Bhadury\, Professor\, IISER Kolkata\nMadadh MacLaine\, Secretary-General\, ZESTAs \n🎤 Moderator: Naka Kondo\, Japan Lead\, Impact Initiatives\, Economist Impact
URL:https://zestas.org/event/zestas-at-the-world-ocean-summit-2025-2/
LOCATION:Ana Intercontinental\, 1 Chome-12-33 Akasaka\, Minato City\, Tokyo\, 107-0052\, Japan
CATEGORIES:ZESTAs
ATTACH;FMTTYPE=image/png:https://zestas.org/wp-content/uploads/2025/03/WOS-25-Speaker-card.png
END:VEVENT
BEGIN:VEVENT
DTSTART;TZID=Asia/Tokyo:20250313T165000
DTEND;TZID=Asia/Tokyo:20250313T171000
DTSTAMP:20260420T112513
CREATED:20250220T092711Z
LAST-MODIFIED:20250312T093052Z
UID:250777-1741884600-1741885800@zestas.org
SUMMARY:ZESTAs at the World Ocean Summit 2025
DESCRIPTION:Scalable\, high-impact solutions for restoring ocean health and advancing sustainable industries.\nChange happens when action meets impact. That’s why Madadh MacLaine\, Secretary-General of ZESTAs\, has been invited to take part in The Economist’s World Ocean Summit 2025 in Tokyo as a 2025 Changemaker. \n🎤 Session: Announcing the 2025 Changemakers\n 📅 March 13\, 2025 | 🕓 16:50 – 17:10 JST📍 ANA Intercontinental\, Tokyo \nIn this closing session\, Madadh will join fellow changemakers to discuss scalable\, high-impact solutions for restoring ocean health and advancing sustainable industries. \nParticipants:\nSuzanne Johnson\, Senior Adviser\, United Nations Global Compact Ocean Stewardship Coalition\nJonas Skattum Svegaarden\, Chief Executive\, Katapult Ocean (joining virtually)\nDeniz Tekerek\, Chief Commercial Officer & Co-Founder\, Archireef\nConstantin Marakhov\, Chief Executive\, Kidemis\nEllen Loxley-Slåttsveen\, Chief Operating Officer\, Hydrakraft \n🎤 Moderator: Daniel Franklin\, Executive Editor & Senior Editor\, Britain\, The Economist \nBeyond the session\, Madadh will mentor Kidemis\, supporting their journey toward high-impact solutions—aligned with ZESTAs’ mission to deploy Absolute Zero Emission technologies in the maritime sector.
URL:https://zestas.org/event/zestas-at-the-world-ocean-summit-2025-3/
LOCATION:Ana Intercontinental\, 1 Chome-12-33 Akasaka\, Minato City\, Tokyo\, 107-0052\, Japan
CATEGORIES:ZESTAs
END:VEVENT
END:VCALENDAR