BEGIN:VCALENDAR
VERSION:2.0
PRODID:-//ZESTAs - ECPv6.15.18//NONSGML v1.0//EN
CALSCALE:GREGORIAN
METHOD:PUBLISH
X-ORIGINAL-URL:https://zestas.org
X-WR-CALDESC:Events for ZESTAs
REFRESH-INTERVAL;VALUE=DURATION:PT1H
X-Robots-Tag:noindex
X-PUBLISHED-TTL:PT1H
BEGIN:VTIMEZONE
TZID:Europe/London
BEGIN:DAYLIGHT
TZOFFSETFROM:+0000
TZOFFSETTO:+0100
TZNAME:BST
DTSTART:20250330T010000
END:DAYLIGHT
BEGIN:STANDARD
TZOFFSETFROM:+0100
TZOFFSETTO:+0000
TZNAME:GMT
DTSTART:20251026T010000
END:STANDARD
BEGIN:DAYLIGHT
TZOFFSETFROM:+0000
TZOFFSETTO:+0100
TZNAME:BST
DTSTART:20260329T010000
END:DAYLIGHT
BEGIN:STANDARD
TZOFFSETFROM:+0100
TZOFFSETTO:+0000
TZNAME:GMT
DTSTART:20261025T010000
END:STANDARD
BEGIN:DAYLIGHT
TZOFFSETFROM:+0000
TZOFFSETTO:+0100
TZNAME:BST
DTSTART:20270328T010000
END:DAYLIGHT
BEGIN:STANDARD
TZOFFSETFROM:+0100
TZOFFSETTO:+0000
TZNAME:GMT
DTSTART:20271031T010000
END:STANDARD
END:VTIMEZONE
BEGIN:VEVENT
DTSTART;VALUE=DATE:20260519
DTEND;VALUE=DATE:20260522
DTSTAMP:20260420T114319
CREATED:20260213T105511Z
LAST-MODIFIED:20260213T113719Z
UID:253404-1779148800-1779407999@zestas.org
SUMMARY:World Hydrogen Summit
DESCRIPTION:The World Hydrogen Summit is one of the leading global platforms dedicated to hydrogen deployment\, bringing together governments\, industry leaders\, investors and technology providers to accelerate large-scale implementation across energy and transport sectors. The event combines a high-level strategic conference with a major international exhibition showcasing infrastructure\, production\, storage\, distribution and end-use solutions. \nThe 2026 edition will take place from 19 to 21 May at Rotterdam Ahoy\, positioning Rotterdam at the centre of international hydrogen dialogue and project development. \nZESTAs Secretary General Madadh MacLaine will be attending\, engaging with policymakers\, system integrators and energy partners to advance the deployment of Absolute Zero emissions shipping through credible hydrogen supply\, infrastructure alignment and maritime integration.
URL:https://zestas.org/event/world-hydrogen-summit-rotterdam-netherlands-19-21-may-2026/
LOCATION:Rotterdam Ahoy\, Ahoyweg 10\, Rotterdam\, 3084\, Netherlands
CATEGORIES:ZESTAs
END:VEVENT
END:VCALENDAR